BEGIN:VCALENDAR
VERSION:2.0
PRODID:-//www.hdreach.org//NONSGML kigkonsult.se iCalcreator 2.30.10//
CALSCALE:GREGORIAN
METHOD:PUBLISH
UID:cbaee19e-c64b-44c5-892b-08a8190b1450
X-WR-CALDESC:The Winston-Salem Making Connections In-person Meet-up will fa
 ll on the 2nd Wednesday of every month starting at 6:00 PM. This month\, w
 e’re featuring a Band T-Shirt Theme—wear your favorite band tee and show o
 ff your music style! 🎸n\nCome socialize\, learn\, and connect with others 
 in the HD community. Please register if you can\; however\, walk-ins are a
 lways welcome.
X-WR-RELCALID:620e777410fb2e6ad6ef4cf5270d079a
X-WR-TIMEZONE:America/New_York
BEGIN:VTIMEZONE
TZID:America/New_York
BEGIN:STANDARD
TZNAME:EST
DTSTART:20251102T020000
TZOFFSETFROM:-0400
TZOFFSETTO:-0500
RDATE:20261101T020000
END:STANDARD
BEGIN:DAYLIGHT
TZNAME:EDT
DTSTART:20260308T020000
TZOFFSETFROM:-0500
TZOFFSETTO:-0400
RDATE:20270314T020000
END:DAYLIGHT
END:VTIMEZONE
BEGIN:VEVENT
UID:d300babe-3238-4a56-8693-8648ffa99db9
DTSTAMP:20260421T072637Z
DESCRIPTION:The Winston-Salem Making Connections In-person Meet-up will fal
 l on the 2nd Wednesday of every month starting at 6:00 PM. This month\, we
 ’re featuring a Band T-Shirt Theme—wear your favorite band tee and show of
 f your music style! 🎸n\nCome socialize\, learn\, and connect with others i
 n the HD community. Please register if you can\; however\, walk-ins are al
 ways welcome.
DTSTART;TZID=America/New_York:20260311T180000
DTEND;TZID=America/New_York:20260311T200000
LOCATION:Fiddlin Fish\, 772 Trade St. NW\, Winston-Salem\, NC 27101 US
SUMMARY:Winston-Salem Meet-up *BAND T THEME*
END:VEVENT
END:VCALENDAR
