BEGIN:VCALENDAR
VERSION:2.0
PRODID:-//www.hdreach.org//NONSGML kigkonsult.se iCalcreator 2.30.10//
CALSCALE:GREGORIAN
METHOD:PUBLISH
UID:c612c7cc-55c5-47be-82d1-d822d9e5dd32
X-WR-CALDESC:
X-WR-RELCALID:253fbcf7a736e1dcfa9adf05668b14a6
X-WR-TIMEZONE:America/New_York
BEGIN:VTIMEZONE
TZID:America/New_York
BEGIN:STANDARD
TZNAME:EST
DTSTART:20251102T020000
TZOFFSETFROM:-0400
TZOFFSETTO:-0500
RDATE:20261101T020000
END:STANDARD
BEGIN:DAYLIGHT
TZNAME:EDT
DTSTART:20250309T020000
TZOFFSETFROM:-0500
TZOFFSETTO:-0400
RDATE:20260308T020000
RDATE:20270314T020000
END:DAYLIGHT
END:VTIMEZONE
BEGIN:VEVENT
UID:0eeee64a-cb40-486c-bb1f-52c772619c26
DTSTAMP:20260421T085715Z
DESCRIPTION:
DTSTART;TZID=America/New_York:20260220T110000
DTEND;TZID=America/New_York:20260220T130000
LOCATION:Pizza Greco\, 5089 Country Club Rd\, Winston-Salem\, NC 27104 US
SUMMARY:Winston-Salem Lunch Meet-up
END:VEVENT
END:VCALENDAR
