BEGIN:VCALENDAR
VERSION:2.0
PRODID:-//www.hdreach.org//NONSGML kigkonsult.se iCalcreator 2.30.10//
CALSCALE:GREGORIAN
METHOD:PUBLISH
UID:bdd5b3c2-3060-431e-bfe3-80ee3829adc3
X-WR-CALDESC:The Winston-Salem Making Connections In-person Meet-up will fa
 ll on the 2nd Wednesday of every month starting at 6pm. Come socialize\, l
 earn\, and connect with others in the HD community. Please register if you
  can\, however walk-ins are welcome.
X-WR-RELCALID:60ef707fe879254d865cc2efe9ca100b
X-WR-TIMEZONE:America/New_York
BEGIN:VTIMEZONE
TZID:America/New_York
BEGIN:STANDARD
TZNAME:EST
DTSTART:20251102T020000
TZOFFSETFROM:-0400
TZOFFSETTO:-0500
RDATE:20261101T020000
END:STANDARD
BEGIN:DAYLIGHT
TZNAME:EDT
DTSTART:20250309T020000
TZOFFSETFROM:-0500
TZOFFSETTO:-0400
RDATE:20260308T020000
RDATE:20270314T020000
END:DAYLIGHT
END:VTIMEZONE
BEGIN:VEVENT
UID:2ae3a1d8-d5f6-4754-8936-e73d144f3543
DTSTAMP:20260421T090405Z
DESCRIPTION:The Winston-Salem Making Connections In-person Meet-up will fal
 l on the 2nd Wednesday of every month starting at 6pm. Come socialize\, le
 arn\, and connect with others in the HD community. Please register if you 
 can\, however walk-ins are welcome.
DTSTART;TZID=America/New_York:20260211T180000
DTEND;TZID=America/New_York:20260211T200000
LOCATION:Fiddlin Fish\, 772 Trade St. NW\, Winston-Salem\, NC 27101 US
SUMMARY:Winston-Salem Meet-up
END:VEVENT
END:VCALENDAR
