BEGIN:VCALENDAR
VERSION:2.0
PRODID:-//www.hdreach.org//NONSGML kigkonsult.se iCalcreator 2.30.10//
CALSCALE:GREGORIAN
METHOD:PUBLISH
UID:9eb315f7-2966-4c2d-96dd-5b28b3694c69
X-WR-CALDESC:Come socialize\, learn\, and connect with others in the HD com
 munity. Free pizza! Please register if you can\, however walk-ins are welc
 ome.
X-WR-RELCALID:e207aba9bbb71664cbab7741ff0e5bf6
X-WR-TIMEZONE:America/New_York
BEGIN:VTIMEZONE
TZID:America/New_York
BEGIN:STANDARD
TZNAME:EST
DTSTART:20251102T020000
TZOFFSETFROM:-0400
TZOFFSETTO:-0500
RDATE:20261101T020000
END:STANDARD
BEGIN:DAYLIGHT
TZNAME:EDT
DTSTART:20250309T020000
TZOFFSETFROM:-0500
TZOFFSETTO:-0400
RDATE:20260308T020000
RDATE:20270314T020000
END:DAYLIGHT
END:VTIMEZONE
BEGIN:VEVENT
UID:03ffbf29-0c3b-4aec-b3b6-1dc8af001758
DTSTAMP:20260421T104629Z
DESCRIPTION:Come socialize\, learn\, and connect with others in the HD comm
 unity. Free pizza! Please register if you can\, however walk-ins are welco
 me.
DTSTART;TZID=America/New_York:20260128T180000
DTEND;TZID=America/New_York:20260128T200000
LOCATION:The Boot Room\, 2501 University Dr\, Durham\, NC 27707 US
SUMMARY:*CANCELLED* Durham Meet-up
END:VEVENT
END:VCALENDAR
