BEGIN:VCALENDAR
VERSION:2.0
PRODID:-//www.hdreach.org//NONSGML kigkonsult.se iCalcreator 2.30.10//
CALSCALE:GREGORIAN
METHOD:PUBLISH
UID:7521aedd-8161-4cff-91db-a69b7101f0ef
X-WR-CALDESC:
X-WR-RELCALID:0badb6b39c364214578f13f6241359e2
X-WR-TIMEZONE:America/New_York
BEGIN:VTIMEZONE
TZID:America/New_York
BEGIN:STANDARD
TZNAME:EST
DTSTART:20251102T020000
TZOFFSETFROM:-0400
TZOFFSETTO:-0500
RDATE:20261101T020000
END:STANDARD
BEGIN:DAYLIGHT
TZNAME:EDT
DTSTART:20250309T020000
TZOFFSETFROM:-0500
TZOFFSETTO:-0400
RDATE:20260308T020000
RDATE:20270314T020000
END:DAYLIGHT
END:VTIMEZONE
BEGIN:VEVENT
UID:30b3a0c5-df6d-405b-8c56-3dceb72101ff
DTSTAMP:20260421T104254Z
DESCRIPTION:
DTSTART;TZID=America/New_York:20260109T110000
DTEND;TZID=America/New_York:20260109T130000
LOCATION:Cin Cin Burger Bar\, 1425 W 1st St\, Winston-Salem\, NC 27101 US
SUMMARY:Winston-Salem Lunch Meet-up
END:VEVENT
END:VCALENDAR
