BEGIN:VCALENDAR
VERSION:2.0
PRODID:-//www.hdreach.org//NONSGML kigkonsult.se iCalcreator 2.30.10//
CALSCALE:GREGORIAN
METHOD:PUBLISH
UID:d5c2a6e2-d4c9-448e-9635-17b9c5cec6e5
X-WR-CALDESC:The Charlotte Meet-up will fall on the 2nd Wednesday of every 
 month starting at 6:30pm. Come socialize\, learn\, and connect with others
  in the HD community. Please register if you can\, however walk-ins are we
 lcome.
X-WR-RELCALID:74029ee0eb9ce56005ac042e7a929510
X-WR-TIMEZONE:America/New_York
BEGIN:VTIMEZONE
TZID:America/New_York
BEGIN:STANDARD
TZNAME:EST
DTSTART:20251102T020000
TZOFFSETFROM:-0400
TZOFFSETTO:-0500
RDATE:20261101T020000
END:STANDARD
BEGIN:DAYLIGHT
TZNAME:EDT
DTSTART:20250309T020000
TZOFFSETFROM:-0500
TZOFFSETTO:-0400
RDATE:20260308T020000
RDATE:20270314T020000
END:DAYLIGHT
END:VTIMEZONE
BEGIN:VEVENT
UID:786a330c-8ef5-40d8-b98a-189acd59a4c7
DTSTAMP:20260421T134057Z
DESCRIPTION:The Charlotte Meet-up will fall on the 2nd Wednesday of every m
 onth starting at 6:30pm. Come socialize\, learn\, and connect with others 
 in the HD community. Please register if you can\, however walk-ins are wel
 come.
DTSTART;TZID=America/New_York:20251112T183000
DTEND;TZID=America/New_York:20251112T200000
LOCATION:Birdsong Brewing Co.\, 1016 N Davidson St\, Charlotte\, NC 28203 U
 S
SUMMARY:Charlotte Meetup
END:VEVENT
END:VCALENDAR
