BEGIN:VCALENDAR
VERSION:2.0
PRODID:-//www.hdreach.org//NONSGML kigkonsult.se iCalcreator 2.30.10//
CALSCALE:GREGORIAN
METHOD:PUBLISH
UID:6afab6f1-28be-427e-ad92-927d0e62f37e
X-WR-CALDESC:
X-WR-RELCALID:09870668a99d36ba78659f613c34e9f8
X-WR-TIMEZONE:America/New_York
BEGIN:VTIMEZONE
TZID:America/New_York
BEGIN:STANDARD
TZNAME:EST
DTSTART:20251102T020000
TZOFFSETFROM:-0400
TZOFFSETTO:-0500
RDATE:20261101T020000
END:STANDARD
BEGIN:DAYLIGHT
TZNAME:EDT
DTSTART:20250309T020000
TZOFFSETFROM:-0500
TZOFFSETTO:-0400
RDATE:20260308T020000
RDATE:20270314T020000
END:DAYLIGHT
END:VTIMEZONE
BEGIN:VEVENT
UID:bab65ae2-a95f-4cbf-80ab-9dde83026023
DTSTAMP:20260421T133717Z
DESCRIPTION:
DTSTART;TZID=America/New_York:20251112T103000
DTEND;TZID=America/New_York:20251112T113000
LOCATION:
SUMMARY:Duke Support Group
END:VEVENT
END:VCALENDAR
