BEGIN:VCALENDAR
VERSION:2.0
PRODID:-//www.hdreach.org//NONSGML kigkonsult.se iCalcreator 2.30.10//
CALSCALE:GREGORIAN
METHOD:PUBLISH
UID:4050ad14-c2ac-42f4-9ff1-f077312d598a
X-WR-CALDESC:Come socialize\, learn\, and connect with others in the HD com
 munity. Free pizza! Please register if you can\, however walk-ins are welc
 ome.
X-WR-RELCALID:534e3e715ff161c96a0fc1e135b16b2d
X-WR-TIMEZONE:America/New_York
BEGIN:VTIMEZONE
TZID:America/New_York
BEGIN:STANDARD
TZNAME:EST
DTSTART:20241103T020000
TZOFFSETFROM:-0400
TZOFFSETTO:-0500
RDATE:20251102T020000
RDATE:20261101T020000
END:STANDARD
BEGIN:DAYLIGHT
TZNAME:EDT
DTSTART:20250309T020000
TZOFFSETFROM:-0500
TZOFFSETTO:-0400
RDATE:20260308T020000
RDATE:20270314T020000
END:DAYLIGHT
END:VTIMEZONE
BEGIN:VEVENT
UID:d488f62f-b43d-4942-96d3-17093043d583
DTSTAMP:20260421T150822Z
DESCRIPTION:Come socialize\, learn\, and connect with others in the HD comm
 unity. Free pizza! Please register if you can\, however walk-ins are welco
 me.
DTSTART;TZID=America/New_York:20251022T180000
DTEND;TZID=America/New_York:20251022T200000
LOCATION:The Boot Room\, 2501 University Dr\, Durham\, AL 27707 US
SUMMARY:Durham Meet-up
END:VEVENT
END:VCALENDAR
