BEGIN:VCALENDAR
VERSION:2.0
PRODID:-//www.hdreach.org//NONSGML kigkonsult.se iCalcreator 2.30.10//
CALSCALE:GREGORIAN
METHOD:PUBLISH
UID:ec62b18c-1d40-49e9-95bc-9ff711cee344
X-WR-CALDESC:Microsoft Teams meeting\nJoin on your computer\, mobile app or
  room device\nhttps://www.microsoft.com/en-us/microsoft-teams/join-a-meeti
 ng\nMeeting ID: 292 524 063 142 \nPasscode: emuyFp \nOr call in (audio onl
 y)\n+1 615-601-3460\,\,486614861#   United States\, Nashville \nPhone Conf
 erence ID: 486 614 861# \n
X-WR-RELCALID:d34b978c4d139381d53f159e3f0ffad9
X-WR-TIMEZONE:America/New_York
BEGIN:VTIMEZONE
TZID:America/New_York
BEGIN:STANDARD
TZNAME:EST
DTSTART:20241103T020000
TZOFFSETFROM:-0400
TZOFFSETTO:-0500
RDATE:20251102T020000
RDATE:20261101T020000
END:STANDARD
BEGIN:DAYLIGHT
TZNAME:EDT
DTSTART:20250309T020000
TZOFFSETFROM:-0500
TZOFFSETTO:-0400
RDATE:20260308T020000
RDATE:20270314T020000
END:DAYLIGHT
END:VTIMEZONE
BEGIN:VEVENT
UID:1811b6d6-e0d4-4488-8c19-aba37f5c202a
DTSTAMP:20260421T150719Z
DESCRIPTION:Microsoft Teams meeting\nJoin on your computer\, mobile app or 
 room device\nhttps://www.microsoft.com/en-us/microsoft-teams/join-a-meetin
 g\nMeeting ID: 292 524 063 142 \nPasscode: emuyFp \nOr call in (audio only
 )\n+1 615-601-3460\,\,486614861#   United States\, Nashville \nPhone Confe
 rence ID: 486 614 861# \n
DTSTART;TZID=America/New_York:20251018T110000
DTEND;TZID=America/New_York:20251018T120000
LOCATION:https://nam12.safelinks.protection.outlook.com/ap/t-59584e83/?url=
 https%3A%2F%2Fteams.microsoft.com%2Fl%2Fmeetup-join%2F19%253a4mMCvEuiNJfI4
 o0Su3z5s4z0uM_5zDxqYEtyeorN7rA1%2540thread.tacv2%2F1673366982831%3Fcontext
 %3D%257b%2522Tid%2522%253a%2522ef575030-1424-4ed8-b83c-12c533d879ab%2522%2
 52c%2522Oid%2522%253a%2522a67e2d9f-d0c2-49da-9e91-fb91a7f7862c%2522%257d&d
 ata=05%7C01%7Clisa.hale%40vumc.org%7C9b95f7ca3a4e46ee0c5b08db14e80100%7Cef
 57503014244ed8b83c12c533d879ab%7C0%7C0%7C638126758922182473%7CUnknown%7CTW
 FpbGZsb3d8eyJWIjoiMC4wLjAwMDAiLCJQIjoiV2luMzIiLCJBTiI6Ik1haWwiLCJXVCI6Mn0%
 3D%7C3000%7C%7C%7C&sdata=guetrXzu%2BVMF6Lw4boCa8Kc%2FJfE6uGkV2bsFZJXmGkQ%3
 D&reserved=0
SUMMARY:Educational Speaker Hour
END:VEVENT
END:VCALENDAR
