BEGIN:VCALENDAR
VERSION:2.0
PRODID:-//www.hdreach.org//NONSGML kigkonsult.se iCalcreator 2.30.10//
CALSCALE:GREGORIAN
METHOD:PUBLISH
UID:81b68077-9504-400c-9c16-a1c3d8bb2122
X-WR-CALDESC:The Charlotte Meet-up will fall on the 2nd Wednesday of every 
 month starting at 6:30pm. Come socialize\, learn\, and connect with others
  in the HD community. Please register if you can\, however walk-ins are we
 lcome.
X-WR-RELCALID:d3294c0e6ed6c164cb07bdb483e8911b
X-WR-TIMEZONE:America/New_York
BEGIN:VTIMEZONE
TZID:America/New_York
BEGIN:STANDARD
TZNAME:EST
DTSTART:20241103T020000
TZOFFSETFROM:-0400
TZOFFSETTO:-0500
RDATE:20251102T020000
RDATE:20261101T020000
END:STANDARD
BEGIN:DAYLIGHT
TZNAME:EDT
DTSTART:20250309T020000
TZOFFSETFROM:-0500
TZOFFSETTO:-0400
RDATE:20260308T020000
RDATE:20270314T020000
END:DAYLIGHT
END:VTIMEZONE
BEGIN:VEVENT
UID:56231420-13c4-40dd-82ec-a907ebe49c0d
DTSTAMP:20260421T150832Z
DESCRIPTION:The Charlotte Meet-up will fall on the 2nd Wednesday of every m
 onth starting at 6:30pm. Come socialize\, learn\, and connect with others 
 in the HD community. Please register if you can\, however walk-ins are wel
 come.
DTSTART;TZID=America/New_York:20251008T183000
DTEND;TZID=America/New_York:20251008T200000
LOCATION:Birdsong Brewing Co.\, 1016 N Davidson St\, Charlotte\, NC 28206 U
 S
SUMMARY:Charlotte Meetup
END:VEVENT
END:VCALENDAR
