BEGIN:VCALENDAR
VERSION:2.0
PRODID:-//www.hdreach.org//NONSGML kigkonsult.se iCalcreator 2.30.10//
CALSCALE:GREGORIAN
METHOD:PUBLISH
UID:f984a8c6-99dc-456f-867d-54f8fdaa3ba8
X-WR-CALDESC:Wondering what the latest uniQure research means? Lauren will 
 be sharing her perspective soon! Join us at the Winston-Salem Meet-up. Com
 e socialize\, learn\, and connect with others in the HD community. Please 
 register if you can\, however walk-ins are welcome.
X-WR-RELCALID:3bb258b9e26f845c52556d8424d2d188
X-WR-TIMEZONE:America/New_York
BEGIN:VTIMEZONE
TZID:America/New_York
BEGIN:STANDARD
TZNAME:EST
DTSTART:20241103T020000
TZOFFSETFROM:-0400
TZOFFSETTO:-0500
RDATE:20251102T020000
RDATE:20261101T020000
END:STANDARD
BEGIN:DAYLIGHT
TZNAME:EDT
DTSTART:20250309T020000
TZOFFSETFROM:-0500
TZOFFSETTO:-0400
RDATE:20260308T020000
RDATE:20270314T020000
END:DAYLIGHT
END:VTIMEZONE
BEGIN:VEVENT
UID:756442d1-4865-4319-812a-f3793f570d7e
DTSTAMP:20260421T152741Z
DESCRIPTION:Wondering what the latest uniQure research means? Lauren will b
 e sharing her perspective soon! Join us at the Winston-Salem Meet-up. Come
  socialize\, learn\, and connect with others in the HD community. Please r
 egister if you can\, however walk-ins are welcome.
DTSTART;TZID=America/New_York:20251008T180000
DTEND;TZID=America/New_York:20251008T200000
LOCATION:Fiddlin Fish\, 772 Trade St. NW\, Winston-Salem\, NC 27101 US
SUMMARY:Winston-Salem Meet-up *Special Guest Lauren Holder!*
END:VEVENT
END:VCALENDAR
