BEGIN:VCALENDAR
VERSION:2.0
PRODID:-//www.hdreach.org//NONSGML kigkonsult.se iCalcreator 2.30.10//
CALSCALE:GREGORIAN
METHOD:PUBLISH
UID:fb7cb0e3-711b-4c2e-a1b9-6c0992bb00a9
X-WR-CALDESC:This event is cancelled! Please feel free to reach out with an
 y questions!
X-WR-RELCALID:406a4a2b9b50cd30595fe1be51a93a68
X-WR-TIMEZONE:America/New_York
BEGIN:VTIMEZONE
TZID:America/New_York
BEGIN:STANDARD
TZNAME:EST
DTSTART:20241103T020000
TZOFFSETFROM:-0400
TZOFFSETTO:-0500
RDATE:20251102T020000
RDATE:20261101T020000
END:STANDARD
BEGIN:DAYLIGHT
TZNAME:EDT
DTSTART:20250309T020000
TZOFFSETFROM:-0500
TZOFFSETTO:-0400
RDATE:20260308T020000
RDATE:20270314T020000
END:DAYLIGHT
END:VTIMEZONE
BEGIN:VEVENT
UID:6fa9ec7f-6518-49bb-90e8-edfe2ef036cc
DTSTAMP:20260421T163746Z
DESCRIPTION:This event is cancelled! Please feel free to reach out with any
  questions!
DTSTART;TZID=America/New_York:20250926T110000
DTEND;TZID=America/New_York:20250926T130000
LOCATION:Pizza Greco\, 5089 Country Club Rd\, Winston-Salem\, AL 27104 US
SUMMARY:Winston-Salem Lunch Meet-up *CANCELLED*
END:VEVENT
END:VCALENDAR
