BEGIN:VCALENDAR
VERSION:2.0
PRODID:-//www.hdreach.org//NONSGML kigkonsult.se iCalcreator 2.30.10//
CALSCALE:GREGORIAN
METHOD:PUBLISH
UID:3edd7de0-2344-47ca-9777-f5a8075c6fb4
X-WR-CALDESC:Come socialize\, learn\, and connect with others in the HD com
 munity. Free pizza! Please register if you can\, however walk-ins are welc
 ome.
X-WR-RELCALID:f268cb422fa12753dec866d19d6cfb6e
X-WR-TIMEZONE:America/New_York
BEGIN:VTIMEZONE
TZID:America/New_York
BEGIN:STANDARD
TZNAME:EST
DTSTART:20241103T020000
TZOFFSETFROM:-0400
TZOFFSETTO:-0500
RDATE:20251102T020000
RDATE:20261101T020000
END:STANDARD
BEGIN:DAYLIGHT
TZNAME:EDT
DTSTART:20250309T020000
TZOFFSETFROM:-0500
TZOFFSETTO:-0400
RDATE:20260308T020000
RDATE:20270314T020000
END:DAYLIGHT
END:VTIMEZONE
BEGIN:VEVENT
UID:b2f1213e-31f3-494c-842b-d1212f401f54
DTSTAMP:20260421T163258Z
DESCRIPTION:Come socialize\, learn\, and connect with others in the HD comm
 unity. Free pizza! Please register if you can\, however walk-ins are welco
 me.
DTSTART;TZID=America/New_York:20250924T180000
DTEND;TZID=America/New_York:20250924T200000
LOCATION:The Boot Room\, 2501 University Dr\, Durham\, NC 27707 US
SUMMARY:Durham Meet-up
END:VEVENT
END:VCALENDAR
