BEGIN:VCALENDAR
VERSION:2.0
PRODID:-//www.hdreach.org//NONSGML kigkonsult.se iCalcreator 2.30.10//
CALSCALE:GREGORIAN
METHOD:PUBLISH
UID:963c543b-6979-44e6-8b1d-3362444048a2
X-WR-CALDESC:
X-WR-RELCALID:f66e8dcf986c32d40448d93fc5370c1c
X-WR-TIMEZONE:America/New_York
BEGIN:VTIMEZONE
TZID:America/New_York
BEGIN:STANDARD
TZNAME:EST
DTSTART:20241103T020000
TZOFFSETFROM:-0400
TZOFFSETTO:-0500
RDATE:20251102T020000
RDATE:20261101T020000
END:STANDARD
BEGIN:DAYLIGHT
TZNAME:EDT
DTSTART:20250309T020000
TZOFFSETFROM:-0500
TZOFFSETTO:-0400
RDATE:20260308T020000
END:DAYLIGHT
END:VTIMEZONE
BEGIN:VEVENT
UID:971eb317-97b1-4a44-b0e1-5048a0f8f632
DTSTAMP:20260421T163146Z
DESCRIPTION:
DTSTART;TZID=America/New_York:20250910T103000
DTEND;TZID=America/New_York:20250910T113000
LOCATION:
SUMMARY:Duke Support Group
END:VEVENT
END:VCALENDAR
