BEGIN:VCALENDAR
VERSION:2.0
PRODID:-//www.hdreach.org//NONSGML kigkonsult.se iCalcreator 2.30.10//
CALSCALE:GREGORIAN
METHOD:PUBLISH
UID:e7cedf6e-addb-46ce-adac-8f7bf4374983
X-WR-CALDESC:
X-WR-RELCALID:3a86853751d451fe3b18d87b117c95b7
X-WR-TIMEZONE:America/New_York
BEGIN:VTIMEZONE
TZID:America/New_York
BEGIN:STANDARD
TZNAME:EST
DTSTART:20241103T020000
TZOFFSETFROM:-0400
TZOFFSETTO:-0500
RDATE:20251102T020000
RDATE:20261101T020000
END:STANDARD
BEGIN:DAYLIGHT
TZNAME:EDT
DTSTART:20250309T020000
TZOFFSETFROM:-0500
TZOFFSETTO:-0400
RDATE:20260308T020000
END:DAYLIGHT
END:VTIMEZONE
BEGIN:VEVENT
UID:bb5f9612-b889-4c34-b0f8-534217aca6a4
DTSTAMP:20260421T181106Z
DESCRIPTION:
DTSTART;TZID=America/New_York:20250822T110000
DTEND;TZID=America/New_York:20250822T130000
LOCATION:Pizza Greco\, 5089 Country Club Rd\, Winston-Salem\, AL 27104 US
SUMMARY:Winston-Salem Lunch Meet-up
END:VEVENT
END:VCALENDAR
