BEGIN:VCALENDAR
VERSION:2.0
PRODID:-//www.hdreach.org//NONSGML kigkonsult.se iCalcreator 2.30.10//
CALSCALE:GREGORIAN
METHOD:PUBLISH
UID:728795b7-3203-4141-97af-d640e49d5093
X-WR-CALDESC:Apply on the HD Bookclub webpage to be added to the book club 
 interest list and you will receive further instructions before the officia
 l start. We cannot wait to see you. To https://www.hdreach.org/connect-res
 ources/events/bookclub.html
X-WR-RELCALID:27221f2f27857e4ab69702a0cde754b4
X-WR-TIMEZONE:America/New_York
BEGIN:VTIMEZONE
TZID:America/New_York
BEGIN:STANDARD
TZNAME:EST
DTSTART:20241103T020000
TZOFFSETFROM:-0400
TZOFFSETTO:-0500
RDATE:20251102T020000
RDATE:20261101T020000
END:STANDARD
BEGIN:DAYLIGHT
TZNAME:EDT
DTSTART:20250309T020000
TZOFFSETFROM:-0500
TZOFFSETTO:-0400
RDATE:20260308T020000
END:DAYLIGHT
END:VTIMEZONE
BEGIN:VEVENT
UID:fe7bb34d-ff47-4f68-b793-05b4c3e9c738
DTSTAMP:20260421T192812Z
DESCRIPTION:Apply on the HD Bookclub webpage to be added to the book club i
 nterest list and you will receive further instructions before the official
  start. We cannot wait to see you. To https://www.hdreach.org/connect-reso
 urces/events/bookclub.html
DTSTART;TZID=America/New_York:20250701T180000
DTEND;TZID=America/New_York:20250701T190000
LOCATION:Zoom
SUMMARY:HD Bookclub
END:VEVENT
END:VCALENDAR
