BEGIN:VCALENDAR
VERSION:2.0
PRODID:-//www.hdreach.org//NONSGML kigkonsult.se iCalcreator 2.30.10//
CALSCALE:GREGORIAN
METHOD:PUBLISH
UID:000fdd76-65e0-436f-9c8e-7aa6fd8145aa
X-WR-CALDESC:
X-WR-RELCALID:278655477dd502b4332e185c7496f614
X-WR-TIMEZONE:America/New_York
BEGIN:VTIMEZONE
TZID:America/New_York
BEGIN:STANDARD
TZNAME:EST
DTSTART:20241103T020000
TZOFFSETFROM:-0400
TZOFFSETTO:-0500
RDATE:20251102T020000
RDATE:20261101T020000
END:STANDARD
BEGIN:DAYLIGHT
TZNAME:EDT
DTSTART:20250309T020000
TZOFFSETFROM:-0500
TZOFFSETTO:-0400
RDATE:20260308T020000
END:DAYLIGHT
END:VTIMEZONE
BEGIN:VEVENT
UID:5ed81bf5-9965-4791-accd-deef6d421d6b
DTSTAMP:20260421T205617Z
DESCRIPTION:
DTSTART;TZID=America/New_York:20250613T110000
DTEND;TZID=America/New_York:20250613T130000
LOCATION:Pizza Greco\, 5089 Country Club Rd\, Winston-Salem\, NC 27104 US
SUMMARY:Winston-Salem Lunch Meet-up
END:VEVENT
END:VCALENDAR
