BEGIN:VCALENDAR
VERSION:2.0
PRODID:-//www.hdreach.org//NONSGML kigkonsult.se iCalcreator 2.30.10//
CALSCALE:GREGORIAN
METHOD:PUBLISH
UID:9629e161-0843-431b-b74d-cb471f1010ba
X-WR-CALDESC:The Winston-Salem Making Connections In-person Meet-up will fa
 ll on the 2nd Wednesday of every month starting at 6pm. Come socialize\, l
 earn\, and connect with others in the HD community. Please register if you
  can\, however walk-ins are welcome.
X-WR-RELCALID:69d6cface45727b513eb16abd9377c3c
X-WR-TIMEZONE:America/New_York
BEGIN:VTIMEZONE
TZID:America/New_York
BEGIN:STANDARD
TZNAME:EST
DTSTART:20241103T020000
TZOFFSETFROM:-0400
TZOFFSETTO:-0500
RDATE:20251102T020000
RDATE:20261101T020000
END:STANDARD
BEGIN:DAYLIGHT
TZNAME:EDT
DTSTART:20250309T020000
TZOFFSETFROM:-0500
TZOFFSETTO:-0400
RDATE:20260308T020000
END:DAYLIGHT
END:VTIMEZONE
BEGIN:VEVENT
UID:74ceef41-f3a8-4cb4-a94c-9e55650ff5e1
DTSTAMP:20260421T205910Z
DESCRIPTION:The Winston-Salem Making Connections In-person Meet-up will fal
 l on the 2nd Wednesday of every month starting at 6pm. Come socialize\, le
 arn\, and connect with others in the HD community. Please register if you 
 can\, however walk-ins are welcome.
DTSTART;TZID=America/New_York:20250611T180000
DTEND;TZID=America/New_York:20250611T200000
LOCATION:Fiddlin Fish\, 772 Trade St. NW\, Winston-Salem\, NC 27101 US
SUMMARY:Winston-Salem Meet-up
END:VEVENT
END:VCALENDAR
