BEGIN:VCALENDAR
VERSION:2.0
PRODID:-//www.hdreach.org//NONSGML kigkonsult.se iCalcreator 2.30.10//
CALSCALE:GREGORIAN
METHOD:PUBLISH
UID:538929da-84bf-41be-8a6e-89caf8b9ef9d
X-WR-CALDESC:
X-WR-RELCALID:361ca31edd8c20ad58319c34999a17e0
X-WR-TIMEZONE:America/New_York
BEGIN:VTIMEZONE
TZID:America/New_York
BEGIN:STANDARD
TZNAME:EST
DTSTART:20241103T020000
TZOFFSETFROM:-0400
TZOFFSETTO:-0500
RDATE:20251102T020000
RDATE:20261101T020000
END:STANDARD
BEGIN:DAYLIGHT
TZNAME:EDT
DTSTART:20250309T020000
TZOFFSETFROM:-0500
TZOFFSETTO:-0400
RDATE:20260308T020000
END:DAYLIGHT
END:VTIMEZONE
BEGIN:VEVENT
UID:357f0865-6de2-455a-869f-5515634b29eb
DTSTAMP:20260421T222958Z
DESCRIPTION:
DTSTART;TZID=America/New_York:20250516T110000
DTEND;TZID=America/New_York:20250516T130000
LOCATION:Pizza Greco\, 5089 Country Club Rd\, Winston-Salem\, NC 27104 US
SUMMARY:Winston-Salem Lunch Meet-up
END:VEVENT
END:VCALENDAR
