BEGIN:VCALENDAR
VERSION:2.0
PRODID:-//www.hdreach.org//NONSGML kigkonsult.se iCalcreator 2.30.10//
CALSCALE:GREGORIAN
METHOD:PUBLISH
UID:b09b901d-b331-4665-bd4f-26fed6031e68
X-WR-CALDESC:
X-WR-RELCALID:bb1ea5f33e733a4956ebf4017e0487d4
X-WR-TIMEZONE:America/New_York
BEGIN:VTIMEZONE
TZID:America/New_York
BEGIN:STANDARD
TZNAME:EST
DTSTART:20241103T020000
TZOFFSETFROM:-0400
TZOFFSETTO:-0500
RDATE:20251102T020000
RDATE:20261101T020000
END:STANDARD
BEGIN:DAYLIGHT
TZNAME:EDT
DTSTART:20250309T020000
TZOFFSETFROM:-0500
TZOFFSETTO:-0400
RDATE:20260308T020000
END:DAYLIGHT
END:VTIMEZONE
BEGIN:VEVENT
UID:7d679f08-7371-4b0d-98e0-a66b6c8c808a
DTSTAMP:20260421T222724Z
DESCRIPTION:
DTSTART;TZID=America/New_York:20250514T103000
DTEND;TZID=America/New_York:20250514T113000
LOCATION:
SUMMARY:Duke Support Group
END:VEVENT
END:VCALENDAR
