BEGIN:VCALENDAR
VERSION:2.0
PRODID:-//www.hdreach.org//NONSGML kigkonsult.se iCalcreator 2.30.10//
CALSCALE:GREGORIAN
METHOD:PUBLISH
UID:9f25878b-df45-4744-bd22-bbd4c0b3b716
X-WR-CALDESC:Sweet treats and Easter surprises!\n\nHD Reach is excited to c
 onnect with more families in the Eastern NC region who are affected by Hun
 tington's Disease (HD). We invite you to come hang out with us at an upcom
 ing in-person meetup where you can meet others\, share experiences\, and f
 ind support. Hint: the Easter Bunny will be visiting. Join us! Bring a fri
 end.\n \n\nWho Can Attend:\nPatients\nFriends & Family\nClinical Staff\nAn
 yone impacted by Huntington’s Disease\nWhat to Expect:\nLight snacks\nA ch
 ance to connect with others in the HD community\nFresh smoothie samples fr
 om Fresh Vibes to try!\nCan’t Make It?\n\nFeel free to share this event wi
 th friends and family in the area – even if you can’t attend\, you can sti
 ll help spread the word!\n \nFind out more:\n\nVisit our website to learn 
 more about what our Meetups are all about and how you can get involved. We
  look forward to seeing you there!
X-WR-RELCALID:4421b6488d8e59b7e80ac5ff0845b292
X-WR-TIMEZONE:America/New_York
BEGIN:VTIMEZONE
TZID:America/New_York
BEGIN:STANDARD
TZNAME:EST
DTSTART:20241103T020000
TZOFFSETFROM:-0400
TZOFFSETTO:-0500
RDATE:20251102T020000
END:STANDARD
BEGIN:DAYLIGHT
TZNAME:EDT
DTSTART:20250309T020000
TZOFFSETFROM:-0500
TZOFFSETTO:-0400
RDATE:20260308T020000
END:DAYLIGHT
END:VTIMEZONE
BEGIN:VEVENT
UID:ac53d352-71fc-4d1c-9fa6-b2a960bb8e2e
DTSTAMP:20260422T000305Z
DESCRIPTION:Sweet treats and Easter surprises!\n\nHD Reach is excited to co
 nnect with more families in the Eastern NC region who are affected by Hunt
 ington's Disease (HD). We invite you to come hang out with us at an upcomi
 ng in-person meetup where you can meet others\, share experiences\, and fi
 nd support. Hint: the Easter Bunny will be visiting. Join us! Bring a frie
 nd.\n \n\nWho Can Attend:\nPatients\nFriends & Family\nClinical Staff\nAny
 one impacted by Huntington’s Disease\nWhat to Expect:\nLight snacks\nA cha
 nce to connect with others in the HD community\nFresh smoothie samples fro
 m Fresh Vibes to try!\nCan’t Make It?\n\nFeel free to share this event wit
 h friends and family in the area – even if you can’t attend\, you can stil
 l help spread the word!\n \nFind out more:\n\nVisit our website to learn m
 ore about what our Meetups are all about and how you can get involved. We 
 look forward to seeing you there!
DTSTART;TZID=America/New_York:20250419T160000
DTEND;TZID=America/New_York:20250419T173000
LOCATION:The Seahorse Steakhouse\,  2301a Stantonsburg Rd\, Greenville\, NC
  27834\, Greenville\, NC 27834 US
SUMMARY:Greenville Meetup
END:VEVENT
END:VCALENDAR
