BEGIN:VCALENDAR
VERSION:2.0
PRODID:-//www.hdreach.org//NONSGML kigkonsult.se iCalcreator 2.30.10//
CALSCALE:GREGORIAN
METHOD:PUBLISH
UID:87711048-b837-4574-a3be-54faa4d021cd
X-WR-CALDESC:
X-WR-RELCALID:39a2e7f3f11a8cf2fa4751e9107ffb5d
X-WR-TIMEZONE:America/New_York
BEGIN:VTIMEZONE
TZID:America/New_York
BEGIN:STANDARD
TZNAME:EST
DTSTART:20241103T020000
TZOFFSETFROM:-0400
TZOFFSETTO:-0500
RDATE:20251102T020000
END:STANDARD
BEGIN:DAYLIGHT
TZNAME:EDT
DTSTART:20250309T020000
TZOFFSETFROM:-0500
TZOFFSETTO:-0400
RDATE:20260308T020000
END:DAYLIGHT
END:VTIMEZONE
BEGIN:VEVENT
UID:c48aeef1-6919-4439-8609-21ba6e476a5e
DTSTAMP:20260422T000115Z
DESCRIPTION:
DTSTART;TZID=America/New_York:20250405T090000
DTEND;TZID=America/New_York:20250405T160000
LOCATION:Kirk of Kildaire\, 200 High Meadow Drive\, Cary\, NC 27511 US
SUMMARY:Education Day
END:VEVENT
END:VCALENDAR
