BEGIN:VCALENDAR
VERSION:2.0
PRODID:-//www.hdreach.org//NONSGML kigkonsult.se iCalcreator 2.30.10//
CALSCALE:GREGORIAN
METHOD:PUBLISH
UID:969d0d83-5af1-4a97-ab5d-333c5958eeee
X-WR-CALDESC:Come socialize\, learn\, and connect with others in the HD com
 munity. Free pizza! Please register if you can\, however walk-ins are welc
 ome.
X-WR-RELCALID:f05eda6e1654544a5c281e72f808e988
X-WR-TIMEZONE:America/New_York
BEGIN:VTIMEZONE
TZID:America/New_York
BEGIN:STANDARD
TZNAME:EST
DTSTART:20241103T020000
TZOFFSETFROM:-0400
TZOFFSETTO:-0500
RDATE:20251102T020000
END:STANDARD
BEGIN:DAYLIGHT
TZNAME:EDT
DTSTART:20250309T020000
TZOFFSETFROM:-0500
TZOFFSETTO:-0400
RDATE:20260308T020000
END:DAYLIGHT
END:VTIMEZONE
BEGIN:VEVENT
UID:c5b58162-9b62-4dad-81dc-62da867ef2f0
DTSTAMP:20260422T012941Z
DESCRIPTION:Come socialize\, learn\, and connect with others in the HD comm
 unity. Free pizza! Please register if you can\, however walk-ins are welco
 me.
DTSTART;TZID=America/New_York:20250326T180000
DTEND;TZID=America/New_York:20250326T200000
LOCATION:The Boot Room\, 2501 University Dr\, Durham\, NC 27707 US
SUMMARY:Durham Meet-up
END:VEVENT
END:VCALENDAR
