BEGIN:VCALENDAR
VERSION:2.0
PRODID:-//www.hdreach.org//NONSGML kigkonsult.se iCalcreator 2.30.10//
CALSCALE:GREGORIAN
METHOD:PUBLISH
UID:88ffb2cf-7c07-4dc2-a038-69b424d74207
X-WR-CALDESC:
X-WR-RELCALID:503068bc8a6f851f4f083ea43e9082f5
X-WR-TIMEZONE:America/New_York
BEGIN:VTIMEZONE
TZID:America/New_York
BEGIN:STANDARD
TZNAME:EST
DTSTART:20241103T020000
TZOFFSETFROM:-0400
TZOFFSETTO:-0500
RDATE:20251102T020000
END:STANDARD
BEGIN:DAYLIGHT
TZNAME:EDT
DTSTART:20250309T020000
TZOFFSETFROM:-0500
TZOFFSETTO:-0400
RDATE:20260308T020000
END:DAYLIGHT
END:VTIMEZONE
BEGIN:VEVENT
UID:33d302b6-357b-49c5-bfb7-07d531bc7aa5
DTSTAMP:20260422T012818Z
DESCRIPTION:
DTSTART;TZID=America/New_York:20250321T110000
DTEND;TZID=America/New_York:20250321T130000
LOCATION:Pizza Greco\, 5089 Country Club Rd\, Winston-Salem\, NC 27104 US
SUMMARY:Winston-Salem Lunch Meet-up
END:VEVENT
END:VCALENDAR
