BEGIN:VCALENDAR
VERSION:2.0
PRODID:-//www.hdreach.org//NONSGML kigkonsult.se iCalcreator 2.30.10//
CALSCALE:GREGORIAN
METHOD:PUBLISH
UID:220ce35e-ec17-420c-a6e3-d3bbe986ff60
X-WR-CALDESC:Meet 'n Greet!\n\nHD Reach is excited to connect with more fam
 ilies in the Eastern NC region who are affected by Huntington's Disease (H
 D). We invite you to come hang out with us at an upcoming in-person meetup
  where you can meet others\, share experiences\, and find support.\n \nSpe
 cial Guests:\nSpeakers Chris Umphlet\, LDN\, Nutritionist and Dana Gribble
  Speech Language Pathologist who will share valuable insights and informat
 ion.  \nFresh Vibes will be on-site offering free smoothie samples to enjo
 y\nWho Can Attend:\nPatients\nFriends & Family\nClinical Staff\nAnyone imp
 acted by Huntington’s Disease\nWhat to Expect:\nLight snacks\nA chance to 
 connect with others in the HD community\nFresh smoothie samples from Fresh
  Vibes to try!\nCan’t Make It?\n\nFeel free to share this event with frien
 ds and family in the area – even if you can’t attend\, you can still help 
 spread the word!\n \nFind out more:\n\nVisit our website to learn more abo
 ut what our Meetups are all about and how you can get involved. We look fo
 rward to seeing you there!
X-WR-RELCALID:37f42ef4a8d3cbeda7976db6401b2f2c
X-WR-TIMEZONE:America/New_York
BEGIN:VTIMEZONE
TZID:America/New_York
BEGIN:STANDARD
TZNAME:EST
DTSTART:20241103T020000
TZOFFSETFROM:-0400
TZOFFSETTO:-0500
RDATE:20251102T020000
END:STANDARD
BEGIN:DAYLIGHT
TZNAME:EDT
DTSTART:20250309T020000
TZOFFSETFROM:-0500
TZOFFSETTO:-0400
RDATE:20260308T020000
END:DAYLIGHT
END:VTIMEZONE
BEGIN:VEVENT
UID:db397d27-5e1a-44fe-835c-b90ce643633f
DTSTAMP:20260422T013859Z
DESCRIPTION:Meet 'n Greet!\n\nHD Reach is excited to connect with more fami
 lies in the Eastern NC region who are affected by Huntington's Disease (HD
 ). We invite you to come hang out with us at an upcoming in-person meetup 
 where you can meet others\, share experiences\, and find support.\n \nSpec
 ial Guests:\nSpeakers Chris Umphlet\, LDN\, Nutritionist and Dana Gribble 
 Speech Language Pathologist who will share valuable insights and informati
 on.  \nFresh Vibes will be on-site offering free smoothie samples to enjoy
 \nWho Can Attend:\nPatients\nFriends & Family\nClinical Staff\nAnyone impa
 cted by Huntington’s Disease\nWhat to Expect:\nLight snacks\nA chance to c
 onnect with others in the HD community\nFresh smoothie samples from Fresh 
 Vibes to try!\nCan’t Make It?\n\nFeel free to share this event with friend
 s and family in the area – even if you can’t attend\, you can still help s
 pread the word!\n \nFind out more:\n\nVisit our website to learn more abou
 t what our Meetups are all about and how you can get involved. We look for
 ward to seeing you there!
DTSTART;TZID=America/New_York:20250312T180000
DTEND;TZID=America/New_York:20250312T193000
LOCATION:ECU Health\, Lifestyle Medicine\, 2610 Stantonsburg Rd\, Greenvill
 e\, NC 27834 US
SUMMARY:Greenville Meetup *Special Guests: Chris Umphlet\, LDN\, Nutritioni
 st and Dana Gribble Speech Language Pathologist*
END:VEVENT
END:VCALENDAR
