BEGIN:VCALENDAR
VERSION:2.0
PRODID:-//www.hdreach.org//NONSGML kigkonsult.se iCalcreator 2.30.10//
CALSCALE:GREGORIAN
METHOD:PUBLISH
UID:f0baf215-146e-4136-a830-3ad416b6c720
X-WR-CALDESC:
X-WR-RELCALID:794896951a5f91c0a0c01a376a23ca62
X-WR-TIMEZONE:America/New_York
BEGIN:VTIMEZONE
TZID:America/New_York
BEGIN:STANDARD
TZNAME:EST
DTSTART:20241103T020000
TZOFFSETFROM:-0400
TZOFFSETTO:-0500
RDATE:20251102T020000
END:STANDARD
BEGIN:DAYLIGHT
TZNAME:EDT
DTSTART:20250309T020000
TZOFFSETFROM:-0500
TZOFFSETTO:-0400
RDATE:20260308T020000
END:DAYLIGHT
END:VTIMEZONE
BEGIN:VEVENT
UID:b644769c-1fe3-494e-804d-011183c96f6f
DTSTAMP:20260422T012706Z
DESCRIPTION:
DTSTART;TZID=America/New_York:20250312T103000
DTEND;TZID=America/New_York:20250312T113000
LOCATION:
SUMMARY:Duke Support Group
END:VEVENT
END:VCALENDAR
