BEGIN:VCALENDAR
VERSION:2.0
PRODID:-//www.hdreach.org//NONSGML kigkonsult.se iCalcreator 2.30.10//
CALSCALE:GREGORIAN
METHOD:PUBLISH
UID:01c694df-73d9-4508-84a6-fee0ae03114b
X-WR-CALDESC:The Charlotte Meet-up will fall on the 2nd Wednesday of every 
 month starting at 6:30pm. Come socialize\, learn\, and connect with others
  in the HD community. Please register if you can\, however walk-ins are we
 lcome.
X-WR-RELCALID:fb7981b853c2c0575cd72d4c821be75f
X-WR-TIMEZONE:America/New_York
BEGIN:VTIMEZONE
TZID:America/New_York
BEGIN:STANDARD
TZNAME:EST
DTSTART:20241103T020000
TZOFFSETFROM:-0400
TZOFFSETTO:-0500
RDATE:20251102T020000
END:STANDARD
BEGIN:DAYLIGHT
TZNAME:EDT
DTSTART:20250309T020000
TZOFFSETFROM:-0500
TZOFFSETTO:-0400
RDATE:20260308T020000
END:DAYLIGHT
END:VTIMEZONE
BEGIN:VEVENT
UID:bbcac36e-a09a-40a4-a75f-a65acb2bb73a
DTSTAMP:20260422T013137Z
DESCRIPTION:The Charlotte Meet-up will fall on the 2nd Wednesday of every m
 onth starting at 6:30pm. Come socialize\, learn\, and connect with others 
 in the HD community. Please register if you can\, however walk-ins are wel
 come.
DTSTART;TZID=America/New_York:20250311T183000
DTEND;TZID=America/New_York:20250311T200000
LOCATION:16-Bit Bar+Arcade\, 307 W Tremont Ave\, Charlotte\, NC 28203 US
SUMMARY:Charlotte Meetup
END:VEVENT
END:VCALENDAR
