BEGIN:VCALENDAR
VERSION:2.0
PRODID:-//www.hdreach.org//NONSGML kigkonsult.se iCalcreator 2.30.10//
CALSCALE:GREGORIAN
METHOD:PUBLISH
UID:84528cbe-64ce-44c4-9fef-0f9611a2c988
X-WR-CALDESC:
X-WR-RELCALID:daec5fa5a803a9b5b33945314a2caac8
X-WR-TIMEZONE:America/New_York
BEGIN:VTIMEZONE
TZID:America/New_York
BEGIN:STANDARD
TZNAME:EST
DTSTART:20241103T020000
TZOFFSETFROM:-0400
TZOFFSETTO:-0500
RDATE:20251102T020000
END:STANDARD
BEGIN:DAYLIGHT
TZNAME:EDT
DTSTART:20240310T020000
TZOFFSETFROM:-0500
TZOFFSETTO:-0400
RDATE:20250309T020000
RDATE:20260308T020000
END:DAYLIGHT
END:VTIMEZONE
BEGIN:VEVENT
UID:3ed72832-7f55-4a7c-8277-19b330eed8e9
DTSTAMP:20260422T025130Z
DESCRIPTION:
DTSTART;TZID=America/New_York:20250221T110000
DTEND;TZID=America/New_York:20250221T130000
LOCATION:Pizza Greco\, 5089 Country Club Rd\, Winston-Salem\, NC 27104 US
SUMMARY:Winston-Salem Lunch Meet-up
END:VEVENT
END:VCALENDAR
