BEGIN:VCALENDAR
VERSION:2.0
PRODID:-//www.hdreach.org//NONSGML kigkonsult.se iCalcreator 2.30.10//
CALSCALE:GREGORIAN
METHOD:PUBLISH
UID:2ef6f190-896a-406e-bd5f-eaa04f61c02a
X-WR-CALDESC:Come socialize\, learn\, and connect with others in the HD com
 munity. \n
X-WR-RELCALID:e87dc831058e53ba7165a96e970266f6
X-WR-TIMEZONE:America/New_York
BEGIN:VTIMEZONE
TZID:America/New_York
BEGIN:STANDARD
TZNAME:EST
DTSTART:20241103T020000
TZOFFSETFROM:-0400
TZOFFSETTO:-0500
RDATE:20251102T020000
END:STANDARD
BEGIN:DAYLIGHT
TZNAME:EDT
DTSTART:20240310T020000
TZOFFSETFROM:-0500
TZOFFSETTO:-0400
RDATE:20250309T020000
RDATE:20260308T020000
END:DAYLIGHT
END:VTIMEZONE
BEGIN:VEVENT
UID:899ee77d-204c-4907-bcf4-1c6f53a1a7ed
DTSTAMP:20260422T042422Z
DESCRIPTION:Come socialize\, learn\, and connect with others in the HD comm
 unity. \n
DTSTART;TZID=America/New_York:20250122T180000
DTEND;TZID=America/New_York:20250122T200000
LOCATION:https://us06web.zoom.us/j/81250250113?pwd=TleuThtzKd7CWdkYJU9oHbLn
 lDp95H.1
SUMMARY:Durham Meet-up *VIRTUAL*
END:VEVENT
END:VCALENDAR
