BEGIN:VCALENDAR
VERSION:2.0
PRODID:-//www.hdreach.org//NONSGML kigkonsult.se iCalcreator 2.30.10//
CALSCALE:GREGORIAN
METHOD:PUBLISH
UID:16e2a717-6024-4767-8eba-dc2ce9250f46
X-WR-CALDESC:
X-WR-RELCALID:3a4f026b7f3704d374d1d23fd1cef88b
X-WR-TIMEZONE:America/New_York
BEGIN:VTIMEZONE
TZID:America/New_York
BEGIN:STANDARD
TZNAME:EST
DTSTART:20241103T020000
TZOFFSETFROM:-0400
TZOFFSETTO:-0500
RDATE:20251102T020000
END:STANDARD
BEGIN:DAYLIGHT
TZNAME:EDT
DTSTART:20240310T020000
TZOFFSETFROM:-0500
TZOFFSETTO:-0400
RDATE:20250309T020000
RDATE:20260308T020000
END:DAYLIGHT
END:VTIMEZONE
BEGIN:VEVENT
UID:ea1c0d79-4923-4fe2-b702-046631f482c5
DTSTAMP:20260422T042240Z
DESCRIPTION:
DTSTART;TZID=America/New_York:20250108T103000
DTEND;TZID=America/New_York:20250108T113000
LOCATION:
SUMMARY:Duke Support Group
END:VEVENT
END:VCALENDAR
