BEGIN:VCALENDAR
VERSION:2.0
PRODID:-//www.hdreach.org//NONSGML kigkonsult.se iCalcreator 2.30.10//
CALSCALE:GREGORIAN
METHOD:PUBLISH
UID:9fabf5e2-3c77-4260-8c32-3c11988ce99b
X-WR-CALDESC:Virtual Warmth: Join Us for a Hot Cocoa Meetup on December 19t
 h at 6:00 PM ET. Let's share stories and laughter! RSVP Today!
X-WR-RELCALID:242fc09dffc9f5baec3a780162405ec7
X-WR-TIMEZONE:America/New_York
BEGIN:VTIMEZONE
TZID:America/New_York
BEGIN:STANDARD
TZNAME:EST
DTSTART:20241103T020000
TZOFFSETFROM:-0400
TZOFFSETTO:-0500
RDATE:20251102T020000
END:STANDARD
BEGIN:DAYLIGHT
TZNAME:EDT
DTSTART:20240310T020000
TZOFFSETFROM:-0500
TZOFFSETTO:-0400
RDATE:20250309T020000
RDATE:20260308T020000
END:DAYLIGHT
END:VTIMEZONE
BEGIN:VEVENT
UID:57d7edd3-733f-4b75-a9a6-ad9831fb5380
DTSTAMP:20260422T055647Z
DESCRIPTION:Virtual Warmth: Join Us for a Hot Cocoa Meetup on December 19th
  at 6:00 PM ET. Let's share stories and laughter! RSVP Today!
DTSTART;TZID=America/New_York:20241219T180000
DTEND;TZID=America/New_York:20241219T193000
LOCATION:https://us06web.zoom.us/j/82531826267?pwd=CTK3ItbH8dfwc4XO0z4usH9i
 c1F3RC.1
SUMMARY:Virtual Hot Cocoa Meetup
END:VEVENT
END:VCALENDAR
