BEGIN:VCALENDAR
VERSION:2.0
PRODID:-//www.hdreach.org//NONSGML kigkonsult.se iCalcreator 2.30.10//
CALSCALE:GREGORIAN
METHOD:PUBLISH
UID:80d0cfcd-f607-4db3-b849-eee9c6715ff2
X-WR-CALDESC:
X-WR-RELCALID:c70c4a7eeb4d945756a912af967fcb71
X-WR-TIMEZONE:America/New_York
BEGIN:VTIMEZONE
TZID:America/New_York
BEGIN:STANDARD
TZNAME:EST
DTSTART:20241103T020000
TZOFFSETFROM:-0400
TZOFFSETTO:-0500
RDATE:20251102T020000
END:STANDARD
BEGIN:DAYLIGHT
TZNAME:EDT
DTSTART:20240310T020000
TZOFFSETFROM:-0500
TZOFFSETTO:-0400
RDATE:20250309T020000
RDATE:20260308T020000
END:DAYLIGHT
END:VTIMEZONE
BEGIN:VEVENT
UID:dfd4b53d-1b5c-41e0-bb3a-bbcc6e529aca
DTSTAMP:20260422T055814Z
DESCRIPTION:
DTSTART;TZID=America/New_York:20241208T160000
DTEND;TZID=America/New_York:20241208T170000
LOCATION:70 N Main St\, Mars Theatre Brewing Co\, Mars Hill\, NC 28754 US
SUMMARY:*CANCELLED* Asheville Social Meet-up
END:VEVENT
END:VCALENDAR
