BEGIN:VCALENDAR
VERSION:2.0
PRODID:-//www.hdreach.org//NONSGML kigkonsult.se iCalcreator 2.30.10//
CALSCALE:GREGORIAN
METHOD:PUBLISH
UID:57b69146-7560-4989-8b92-5d4b1d89935c
X-WR-CALDESC:The Charlotte Meet-up will fall on the 4th Wednesday of every 
 month starting at 6pm. Come socialize\, learn\, and connect with others in
  the HD community. Please register if you can\, however walk-ins are welco
 me.
X-WR-RELCALID:6b66deb393023e891d273d273b793b06
X-WR-TIMEZONE:America/New_York
BEGIN:VTIMEZONE
TZID:America/New_York
BEGIN:STANDARD
TZNAME:EST
DTSTART:20241103T020000
TZOFFSETFROM:-0400
TZOFFSETTO:-0500
RDATE:20251102T020000
END:STANDARD
BEGIN:DAYLIGHT
TZNAME:EDT
DTSTART:20240310T020000
TZOFFSETFROM:-0500
TZOFFSETTO:-0400
RDATE:20250309T020000
RDATE:20260308T020000
END:DAYLIGHT
END:VTIMEZONE
BEGIN:VEVENT
UID:d8bde291-a558-42f9-853b-9f95344f2d8b
DTSTAMP:20260422T072757Z
DESCRIPTION:The Charlotte Meet-up will fall on the 4th Wednesday of every m
 onth starting at 6pm. Come socialize\, learn\, and connect with others in 
 the HD community. Please register if you can\, however walk-ins are welcom
 e.
DTSTART;TZID=America/New_York:20241127T180000
DTEND;TZID=America/New_York:20241127T200000
LOCATION:
SUMMARY:*CANCELLED* Charlotte Meetup
END:VEVENT
END:VCALENDAR
