BEGIN:VCALENDAR
VERSION:2.0
PRODID:-//www.hdreach.org//NONSGML kigkonsult.se iCalcreator 2.30.10//
CALSCALE:GREGORIAN
METHOD:PUBLISH
UID:9c9918bc-2bd4-45af-853a-0c2afef8511e
X-WR-CALDESC:The Charlotte Meet-up will fall on the 4th Wednesday of every 
 month starting at 6pm. Come socialize\, learn\, and connect with others in
  the HD community. Please register if you can\, however walk-ins are welco
 me.
X-WR-RELCALID:7cd1eac422b57da4e66cffae6d951c07
X-WR-TIMEZONE:America/New_York
BEGIN:VTIMEZONE
TZID:America/New_York
BEGIN:STANDARD
TZNAME:EST
DTSTART:20231105T020000
TZOFFSETFROM:-0400
TZOFFSETTO:-0500
RDATE:20241103T020000
RDATE:20251102T020000
END:STANDARD
BEGIN:DAYLIGHT
TZNAME:EDT
DTSTART:20240310T020000
TZOFFSETFROM:-0500
TZOFFSETTO:-0400
RDATE:20250309T020000
RDATE:20260308T020000
END:DAYLIGHT
END:VTIMEZONE
BEGIN:VEVENT
UID:1fe80677-443e-4f94-894b-67a0acf23ddf
DTSTAMP:20260422T105609Z
DESCRIPTION:The Charlotte Meet-up will fall on the 4th Wednesday of every m
 onth starting at 6pm. Come socialize\, learn\, and connect with others in 
 the HD community. Please register if you can\, however walk-ins are welcom
 e.
DTSTART;TZID=America/New_York:20240925T183000
DTEND;TZID=America/New_York:20240925T200000
LOCATION:Divine Barrel  \, 3701 N Davidson St Suite #203\, Charlotte\, NC 2
 8205 US
SUMMARY:Charlotte Meetup
END:VEVENT
END:VCALENDAR
