BEGIN:VCALENDAR
VERSION:2.0
PRODID:-//www.hdreach.org//NONSGML kigkonsult.se iCalcreator 2.30.10//
CALSCALE:GREGORIAN
METHOD:PUBLISH
UID:19390ac8-66a5-4ab7-a41b-22b3b6a727b9
X-WR-CALDESC:The Charlotte Meet-up will fall on the 4th Wednesday of every 
 month starting at 6pm. Come socialize\, learn\, and connect with others in
  the HD community. Please register if you can\, however walk-ins are welco
 me.
X-WR-RELCALID:e393b3b11dcc843f525167218c1e9183
X-WR-TIMEZONE:America/New_York
BEGIN:VTIMEZONE
TZID:America/New_York
BEGIN:STANDARD
TZNAME:EST
DTSTART:20231105T020000
TZOFFSETFROM:-0400
TZOFFSETTO:-0500
RDATE:20241103T020000
RDATE:20251102T020000
END:STANDARD
BEGIN:DAYLIGHT
TZNAME:EDT
DTSTART:20240310T020000
TZOFFSETFROM:-0500
TZOFFSETTO:-0400
RDATE:20250309T020000
END:DAYLIGHT
END:VTIMEZONE
BEGIN:VEVENT
UID:56ac2ef0-02fc-45b1-94a4-d8aa03dc8f26
DTSTAMP:20260422T134816Z
DESCRIPTION:The Charlotte Meet-up will fall on the 4th Wednesday of every m
 onth starting at 6pm. Come socialize\, learn\, and connect with others in 
 the HD community. Please register if you can\, however walk-ins are welcom
 e.
DTSTART;TZID=America/New_York:20240724T180000
DTEND;TZID=America/New_York:20240724T200000
LOCATION:Divine Barrel\, 3701 N. Davidson St. – Suite #203\, Charlotte\, NC
  28205 US
SUMMARY:Charlotte Meetup - CANCELLED!
END:VEVENT
END:VCALENDAR
