BEGIN:VCALENDAR
VERSION:2.0
PRODID:-//www.hdreach.org//NONSGML kigkonsult.se iCalcreator 2.30.10//
CALSCALE:GREGORIAN
METHOD:PUBLISH
UID:13ceb5f7-09ee-4ada-ac56-d441615ed8ab
X-WR-CALDESC:Apply on the HD Bookclub webpage to be added to the book club 
 interest list and you will receive further instructions before the officia
 l start. We cannot wait to see you. To https://www.hdreach.org/connect-res
 ources/events/bookclub.html
X-WR-RELCALID:0e2d06fa8c94ec7e09894bfbe45439cc
X-WR-TIMEZONE:America/New_York
BEGIN:VTIMEZONE
TZID:America/New_York
BEGIN:STANDARD
TZNAME:EST
DTSTART:20231105T020000
TZOFFSETFROM:-0400
TZOFFSETTO:-0500
RDATE:20241103T020000
RDATE:20251102T020000
END:STANDARD
BEGIN:DAYLIGHT
TZNAME:EDT
DTSTART:20240310T020000
TZOFFSETFROM:-0500
TZOFFSETTO:-0400
RDATE:20250309T020000
END:DAYLIGHT
END:VTIMEZONE
BEGIN:VEVENT
UID:64a3fedd-b815-46da-9efa-bfdd2f38ba79
DTSTAMP:20260422T134541Z
DESCRIPTION:Apply on the HD Bookclub webpage to be added to the book club i
 nterest list and you will receive further instructions before the official
  start. We cannot wait to see you. To https://www.hdreach.org/connect-reso
 urces/events/bookclub.html
DTSTART;TZID=America/New_York:20240702T180000
DTEND;TZID=America/New_York:20240702T190000
LOCATION:Zoom
SUMMARY:HD Bookclub
END:VEVENT
END:VCALENDAR
